
BEGIN:VCALENDAR
VERSION:2.0
CALSCALE:GREGORIAN
BEGIN:VEVENT
URL;VALUE=URI:https://www.boardoftrade.com/events/7643
DTSTART:20231107T170000Z
DTEND:20231108T010000Z
UID:7643eventcalendar.boardoftrade.com
DTSTAMP:20260419T171535Z
LOCATION:Victoria Marriott Inner Harbour Hotel
DESCRIPTION:Schedule: \nRegistration:  8:30 - 9:00 a.m. \nWorkshop Days:  9:00 a.m. - 5:00 p.m.\nMentorship Days:  8:30 a.m. - 12:30 p.m.\n \nEvent Detail Page: https://www.boardoftrade.com/events/7643
X-ALT-DESC;FMTTYPE=text/html:<!doctype html><html><body><div>Schedule: <p>Registration: &nbsp\;8:30 - 9:00 a.m. <BR>Workshop Days: &nbsp\;9:00 a.m. - 5:00 p.m.<BR>Mentorship Days: &nbsp\;8:30 a.m. - 12:30 p.m.</p></div>&nbsp\;<div>Event Detail Page: https://www.boardoftrade.com/events/7643</div></body></html>

SUMMARY:Trade Accelerator Program: Vancouver Island and Coast Region
END:VEVENT
END:VCALENDAR