
BEGIN:VCALENDAR
VERSION:2.0
CALSCALE:GREGORIAN
BEGIN:VEVENT
URL;VALUE=URI:https://www.boardoftrade.com/events/7642
DTSTART:20231003T160000Z
DTEND:20231004T000000Z
UID:7642eventcalendar.boardoftrade.com
DTSTAMP:20260419T173121Z
LOCATION:SFU Segal Graduate School of Business
DESCRIPTION:Schedule: \nRegistration:  8:30 - 9:00 a.m. \nWorkshop Days:  9:00 a.m. - 5:00 p.m.\nMentorship Days:  8:30 a.m. - 12:30 p.m.\n \nEvent Detail Page: https://www.boardoftrade.com/events/7642
X-ALT-DESC;FMTTYPE=text/html:<!doctype html><html><body><div>Schedule: <p>Registration: &nbsp\;8:30 - 9:00 a.m. <BR>Workshop Days: &nbsp\;9:00 a.m. - 5:00 p.m.<BR>Mentorship Days: &nbsp\;8:30 a.m. - 12:30 p.m.</p></div>&nbsp\;<div>Event Detail Page: https://www.boardoftrade.com/events/7642</div></body></html>

SUMMARY:Trade Accelerator Program: Creative Industries Cohort
END:VEVENT
END:VCALENDAR