
BEGIN:VCALENDAR
VERSION:2.0
CALSCALE:GREGORIAN
BEGIN:VEVENT
URL;VALUE=URI:https://www.boardoftrade.com/events/7639
DTSTART:20231005T153000Z
DTEND:20231102T190000Z
UID:7639eventcalendar.boardoftrade.com
DTSTAMP:20260419T173111Z
LOCATION:
DESCRIPTION:Schedule: \nThursday\, October 5 - November 2\, 2023\n9:00 a.m. - 12:00 p.m. PT \n\nRegistration deadline: September 28\, 2023\n \nEvent Detail Page: https://www.boardoftrade.com/events/7639
X-ALT-DESC;FMTTYPE=text/html:<!doctype html><html><body><div>Schedule: <p>Thursday\, October 5 - November 2\, 2023<BR>9:00 a.m. - 12:00 p.m. PT <BR><BR><B>Registration deadline: September 28\, 2023</B></p></div>&nbsp\;<div>Event Detail Page: https://www.boardoftrade.com/events/7639</div></body></html>

SUMMARY:ESG Fundamentals Microcredential: Design your ESG action plan
END:VEVENT
END:VCALENDAR