
BEGIN:VCALENDAR
VERSION:2.0
CALSCALE:GREGORIAN
BEGIN:VEVENT
URL;VALUE=URI:https://www.boardoftrade.com/events/7637
DTSTART:20230912T183000Z
DTEND:20230912T203000Z
UID:7637eventcalendar.boardoftrade.com
DTSTAMP:20260419T173002Z
LOCATION:Fairmont Hotel Vancouver - Pacific Ballroom  900 W Georgia St  Vancouver\, BC
DESCRIPTION:Schedule: \nRegistration & Lunch: 11:30 a.m. - 12:30 p.m. PT\n Program: 12:30 – 1:30 p.m. PT\n \nEvent Detail Page: https://www.boardoftrade.com/events/7637
X-ALT-DESC;FMTTYPE=text/html:<!doctype html><html><body><div>Schedule: <p>Registration & Lunch: 11:30 a.m. - 12:30 p.m. PT<BR> Program: 12:30 – 1:30 p.m. PT</p></div>&nbsp\;<div>Event Detail Page: https://www.boardoftrade.com/events/7637</div></body></html>

SUMMARY:The Critical Question – How Can Canada Build More Mines Faster?
END:VEVENT
END:VCALENDAR