
BEGIN:VCALENDAR
VERSION:2.0
CALSCALE:GREGORIAN
BEGIN:VEVENT
URL;VALUE=URI:https://www.boardoftrade.com/events/7634
DTSTART:20231017T153000Z
DTEND:20231017T190000Z
UID:7634eventcalendar.boardoftrade.com
DTSTAMP:20260419T171945Z
LOCATION:Fairmont Pacific Rim Star Sapphire Ballroom 1038 Canada Place\, Vancouver
DESCRIPTION:Schedule: \nRegistration & Breakfast:  8:30  - 9:00 a.m. PT\n Program:  9:00 a.m. - 12:00 p.m. PT\n\n \nEvent Detail Page: https://www.boardoftrade.com/events/7634
X-ALT-DESC;FMTTYPE=text/html:<!doctype html><html><body><div>Schedule: <p>Registration & Breakfast:  8:30  - 9:00 a.m. PT<BR> Program:  9:00 a.m. - 12:00 p.m. PT<BR></p></div>&nbsp\;<div>Event Detail Page: https://www.boardoftrade.com/events/7634</div></body></html>

SUMMARY:Health Care Forum 2023 Presented by Pacific Blue Cross
END:VEVENT
END:VCALENDAR