
BEGIN:VCALENDAR
VERSION:2.0
CALSCALE:GREGORIAN
BEGIN:VEVENT
URL;VALUE=URI:https://www.boardoftrade.com/events/7627
DTSTART:20230525T000000Z
DTEND:20230525T013000Z
UID:7627eventcalendar.boardoftrade.com
DTSTAMP:20260419T160628Z
LOCATION:Kwantlen Polytechnic University  Civic Plaza Campus - 6th Floor 13485 Central Avenue\, Surrey
DESCRIPTION:Event Detail Page: https://www.boardoftrade.com/events/7627
X-ALT-DESC;FMTTYPE=text/html:<!doctype html><html><body><div>Event Detail Page: https://www.boardoftrade.com/events/7627</div></body></html>

SUMMARY:Bold Leadership through an Indigenous Lens
END:VEVENT
END:VCALENDAR