
BEGIN:VCALENDAR
VERSION:2.0
CALSCALE:GREGORIAN
BEGIN:VEVENT
URL;VALUE=URI:https://www.boardoftrade.com/events/7626
DTSTART:20240119T163000Z
DTEND:20240119T200000Z
UID:7626eventcalendar.boardoftrade.com
DTSTAMP:20260419T173121Z
LOCATION:Greater Vancouver Board of Trade Office  World Trade Centre  400 - 999 Canada Place\, Vancouver
DESCRIPTION:Schedule: \n<Br>  ELP Welcome Social <Br> 	December 2023 (Date TBC) <Br><Br>  Friday\, January 19 – Course 1 <Br> Innovation and Engagement (by BCIT) <Br> 	8:30 a.m. – 12:00 p.m. <Br> 	<Br>  Friday\, February 9 – Roundtable 1 A <Br> <I>Speaker TBC</I><Br> 	11:30 a.m. – 1:30 p.m. <Br> 	<Br>  Friday\, February 16 – Roundtable 1 B <Br> <I>Speaker TBC</I><Br> 	11:30 a.m. – 1:30 p.m. <Br> 	<Br>  Friday\, March 1 – Course 2 <Br> Change Management (by BCIT) <Br> 	8:30 a.m. – 12:00 p.m. <Br> 	<Br>  Friday\, March 15 – Roundtable 2 B <Br> <I>Speaker TBC</I><Br> 	11:30 a.m. – 1:30 p.m. <Br> 	<Br>  Friday\, March 22 – Roundtable 2 A <Br> <I>Speaker TBC</I><Br> 	11:30 a.m. – 1:30 p.m. <Br> 	<Br>  Friday\, April 12 – Course 3 <Br> Understanding Board Governance (by Watson Advisors)<Br> 	8:30 a.m. – 12:00 p.m. <Br> 	<Br>  Friday\, May 3 – Roundtable 3 <Br> <I>Speaker TBC</I><Br> 11:30 a.m. – 1:30 p.m. <Br> <Br>  A Night of Non-Profit Engagement <Br> 	May 2024 (Date TBC) <Br><Br>  Friday\, June 14 – Mentorship Roundtables <Br> <I>Speakers TBC</I><Br> 11:30 a.m. – 1:30 p.m. <Br> <Br>  Engaged Leadership Grad Night & Networking <Br> 	June 2024 (Date TBC) <Br><Br> <I>*Please note that you must attend all three courses in order to qualify for a certificate of completion. </i>\n \nEvent Detail Page: https://www.boardoftrade.com/events/7626
X-ALT-DESC;FMTTYPE=text/html:<!doctype html><html><body><div>Schedule: <p><Br>  <B>ELP Welcome Social</B> <Br> 	December 2023 (Date TBC) <Br><Br>  <B>Friday\, January 19 – Course 1</B> <Br> Innovation and Engagement (by BCIT) <Br> 	8:30 a.m. – 12:00 p.m. <Br> 	<Br>  <B>Friday\, February 9 – Roundtable 1 A</B> <Br> <I>Speaker TBC</I><Br> 	11:30 a.m. – 1:30 p.m. <Br> 	<Br>  <B>Friday\, February 16 – Roundtable 1 B</B> <Br> <I>Speaker TBC</I><Br> 	11:30 a.m. – 1:30 p.m. <Br> 	<Br>  <B>Friday\, March 1 – Course 2</B> <Br> Change Management (by BCIT) <Br> 	8:30 a.m. – 12:00 p.m. <Br> 	<Br>  <B>Friday\, March 15 – Roundtable 2 B</B> <Br> <I>Speaker TBC</I><Br> 	11:30 a.m. – 1:30 p.m. <Br> 	<Br>  <B>Friday\, March 22 – Roundtable 2 A</B> <Br> <I>Speaker TBC</I><Br> 	11:30 a.m. – 1:30 p.m. <Br> 	<Br>  <B>Friday\, April 12 – Course 3</B> <Br> Understanding Board Governance (by Watson Advisors)<Br> 	8:30 a.m. – 12:00 p.m. <Br> 	<Br>  <B>Friday\, May 3 – Roundtable 3</B> <Br> <I>Speaker TBC</I><Br> 11:30 a.m. – 1:30 p.m. <Br> <Br>  <B>A Night of Non-Profit Engagement</B> <Br> 	May 2024 (Date TBC) <Br><Br>  <B>Friday\, June 14 – Mentorship Roundtables</B> <Br> <I>Speakers TBC</I><Br> 11:30 a.m. – 1:30 p.m. <Br> <Br>  <B>Engaged Leadership Grad Night & Networking</B> <Br> 	June 2024 (Date TBC) <Br><Br> <I>*Please note that you must attend all three courses in order to qualify for a certificate of completion. </i></p></div>&nbsp\;<div>Event Detail Page: https://www.boardoftrade.com/events/7626</div></body></html>

SUMMARY:Engaged Leadership Program
END:VEVENT
END:VCALENDAR