
BEGIN:VCALENDAR
VERSION:2.0
CALSCALE:GREGORIAN
BEGIN:VEVENT
URL;VALUE=URI:https://www.boardoftrade.com/events/7613
DTSTART:20230720T000000Z
DTEND:20230720T020000Z
UID:7613eventcalendar.boardoftrade.com
DTSTAMP:20260419T160507Z
LOCATION:Govan Brown 200- 900 West Hastings st Vancouver
DESCRIPTION:Schedule: \nSocial: 5:00 - 7:00 p.m. \n \nEvent Detail Page: https://www.boardoftrade.com/events/7613
X-ALT-DESC;FMTTYPE=text/html:<!doctype html><html><body><div>Schedule: <p>Social: 5:00 - 7:00 p.m. </p></div>&nbsp\;<div>Event Detail Page: https://www.boardoftrade.com/events/7613</div></body></html>

SUMMARY:Govan Brown
END:VEVENT
END:VCALENDAR