
BEGIN:VCALENDAR
VERSION:2.0
CALSCALE:GREGORIAN
BEGIN:VEVENT
URL;VALUE=URI:https://www.boardoftrade.com/events/7612
DTSTART:20230509T233000Z
DTEND:20230510T013000Z
UID:7612eventcalendar.boardoftrade.com
DTSTAMP:20260419T160628Z
LOCATION:Pinnacle Hotel Harbourfront - 360 Vistas Room 1133 W Hastings St
DESCRIPTION:Schedule: \nRegistration and Reception: 4:30 - 5:00 p.m. <br> Welcome and Remarks: 5:00 - 5:30 p.m. <br> Non-Profit Networking: 5:30 - 6:30 p.m.\n \nEvent Detail Page: https://www.boardoftrade.com/events/7612
X-ALT-DESC;FMTTYPE=text/html:<!doctype html><html><body><div>Schedule: <p>Registration and Reception: 4:30 - 5:00 p.m. <br> Welcome and Remarks: 5:00 - 5:30 p.m. <br> Non-Profit Networking: 5:30 - 6:30 p.m.</p></div>&nbsp\;<div>Event Detail Page: https://www.boardoftrade.com/events/7612</div></body></html>

SUMMARY:Get-on-Board: A Night of Non-Profit Engagement
END:VEVENT
END:VCALENDAR