
BEGIN:VCALENDAR
VERSION:2.0
CALSCALE:GREGORIAN
BEGIN:VEVENT
URL;VALUE=URI:https://www.boardoftrade.com/events/7609
DTSTART:20230526T150000Z
DTEND:20230526T170000Z
UID:7609eventcalendar.boardoftrade.com
DTSTAMP:20260419T160447Z
LOCATION:UBC Robson Square  Theatre (C300) - Classroom Level  800 Robson St\, Vancouver\, BC
DESCRIPTION:Schedule: \nRegistration & Breakfast: 8:00 - 8:30 a.m. PT\n Program: 8:30 – 10:00 a.m. PT\n \nEvent Detail Page: https://www.boardoftrade.com/events/7609
X-ALT-DESC;FMTTYPE=text/html:<!doctype html><html><body><div>Schedule: <p>Registration & Breakfast: 8:00 - 8:30 a.m. PT<BR> Program: 8:30 – 10:00 a.m. PT</p></div>&nbsp\;<div>Event Detail Page: https://www.boardoftrade.com/events/7609</div></body></html>

SUMMARY:Building B.C.’s ESG Advantage
END:VEVENT
END:VCALENDAR