
BEGIN:VCALENDAR
VERSION:2.0
CALSCALE:GREGORIAN
BEGIN:VEVENT
URL;VALUE=URI:https://www.boardoftrade.com/events/7607
DTSTART:20230608T150000Z
DTEND:20230608T190000Z
UID:7607eventcalendar.boardoftrade.com
DTSTAMP:20260419T160445Z
LOCATION:Fairmont Waterfront Hotel Waterfront Ballroom  900 Canada Pl\, Vancouver
DESCRIPTION:Schedule: \nRegistration and Breakfast:  8:00  - 8:30 a.m. PT\n Program:  8:30 - 12:30 p.m. PT\n\n  <a href="files/events/digital-agenda.pdf" target="_blank">Full Agenda (PDF)</a> \n \nEvent Detail Page: https://www.boardoftrade.com/events/7607
X-ALT-DESC;FMTTYPE=text/html:<!doctype html><html><body><div>Schedule: <p>Registration and Breakfast:  8:00  - 8:30 a.m. PT<BR> Program:  8:30 - 12:30 p.m. PT<BR><BR>  <a href="https://www.boardoftrade.com/files/events/digital-agenda.pdf" target="_blank">Full Agenda (PDF)</a> </p></div>&nbsp\;<div>Event Detail Page: https://www.boardoftrade.com/events/7607</div></body></html>

SUMMARY:Major Projects Forum 2023 Presented by KPMG
END:VEVENT
END:VCALENDAR