
BEGIN:VCALENDAR
VERSION:2.0
CALSCALE:GREGORIAN
BEGIN:VEVENT
URL;VALUE=URI:https://www.boardoftrade.com/events/7606
DTSTART:20230615T183000Z
DTEND:20230615T203000Z
UID:7606eventcalendar.boardoftrade.com
DTSTAMP:20260419T160549Z
LOCATION:Fairmont Hotel Vancouver - BC Ballroom 900 W Georgia St.\, Vancouver 
DESCRIPTION:Schedule: \nRegistration & Lunch: 11:30 a.m. - 12:30 p.m. PT Program: 12:30 – 1:30 p.m. PT\n \nEvent Detail Page: https://www.boardoftrade.com/events/7606
X-ALT-DESC;FMTTYPE=text/html:<!doctype html><html><body><div>Schedule: <p>Registration & Lunch: 11:30 a.m. - 12:30 p.m. PT Program: 12:30 – 1:30 p.m. PT</p></div>&nbsp\;<div>Event Detail Page: https://www.boardoftrade.com/events/7606</div></body></html>

SUMMARY:Reconciliation in Action: Annual Address with Musqueam\, Squamish and Tsleil-Waututh Nations
END:VEVENT
END:VCALENDAR