
BEGIN:VCALENDAR
VERSION:2.0
CALSCALE:GREGORIAN
BEGIN:VEVENT
URL;VALUE=URI:https://www.boardoftrade.com/events/7604
DTSTART:20230330T153000Z
DTEND:20230330T170000Z
UID:7604eventcalendar.boardoftrade.com
DTSTAMP:20260419T160350Z
LOCATION:Fairmont Waterfront - Waterfront Ballroom  900 Canada Place  Vancouver
DESCRIPTION:Schedule: \nRegistration & Breakfast: 8:30 a.m. - 9:00 a.m. PT Program: 9:00 – 10:00 a.m. PT\n \nEvent Detail Page: https://www.boardoftrade.com/events/7604
X-ALT-DESC;FMTTYPE=text/html:<!doctype html><html><body><div>Schedule: <p>Registration & Breakfast: 8:30 a.m. - 9:00 a.m. PT Program: 9:00 – 10:00 a.m. PT</p></div>&nbsp\;<div>Event Detail Page: https://www.boardoftrade.com/events/7604</div></body></html>

SUMMARY:2023 Federal Budget with Deputy Prime Minister and Minister of Finance\, Chrystia Freeland
END:VEVENT
END:VCALENDAR