
BEGIN:VCALENDAR
VERSION:2.0
CALSCALE:GREGORIAN
BEGIN:VEVENT
URL;VALUE=URI:https://www.boardoftrade.com/events/7603
DTSTART:20230515T160000Z
DTEND:20230515T180000Z
UID:7603eventcalendar.boardoftrade.com
DTSTAMP:20260419T160641Z
LOCATION:
DESCRIPTION:Schedule: \n9 - 11 a.m. \n\n Session 1: Monday\, May 15 \n Session 2: Tuesday\, May 16 \n Session 3: Wednesday\, May 17\n \nEvent Detail Page: https://www.boardoftrade.com/events/7603
X-ALT-DESC;FMTTYPE=text/html:<!doctype html><html><body><div>Schedule: <p>9 - 11 a.m. <BR><BR> Session 1: Monday\, May 15 <BR> Session 2: Tuesday\, May 16 <BR> Session 3: Wednesday\, May 17</p></div>&nbsp\;<div>Event Detail Page: https://www.boardoftrade.com/events/7603</div></body></html>

SUMMARY:Diversity and Inclusion: IDEA Fundamentals Certification
END:VEVENT
END:VCALENDAR