
BEGIN:VCALENDAR
VERSION:2.0
CALSCALE:GREGORIAN
BEGIN:VEVENT
URL;VALUE=URI:https://www.boardoftrade.com/events/7602
DTSTART:20230518T153000Z
DTEND:20230518T190000Z
UID:7602eventcalendar.boardoftrade.com
DTSTAMP:20260419T160324Z
LOCATION:Greater Vancouver Board of Trade Office  World Trade Centre  400 - 999 Canada Place\, Vancouver
DESCRIPTION:Schedule: \nPostponed until fall 2023\n Join wait-list to be notified when registration opens.   <!--Thursday\, May 18 - June 15\n9:00 a.m. - 12:00 p.m. PT \nRegistration deadline: May 4\, 2023-->\n \nEvent Detail Page: https://www.boardoftrade.com/events/7602
X-ALT-DESC;FMTTYPE=text/html:<!doctype html><html><body><div>Schedule: <p>Postponed until fall 2023<BR> Join wait-list to be notified when registration opens.   <!--Thursday\, May 18 - June 15<BR>9:00 a.m. - 12:00 p.m. PT <BR><B>Registration deadline: May 4\, 2023</B>--></p></div>&nbsp\;<div>Event Detail Page: https://www.boardoftrade.com/events/7602</div></body></html>

SUMMARY:ESG Fundamentals Microcredential: Design your ESG action plan
END:VEVENT
END:VCALENDAR