
BEGIN:VCALENDAR
VERSION:2.0
CALSCALE:GREGORIAN
BEGIN:VEVENT
URL;VALUE=URI:https://www.boardoftrade.com/events/7601
DTSTART:20230630T013000Z
DTEND:20230630T043000Z
UID:7601eventcalendar.boardoftrade.com
DTSTAMP:20260419T160351Z
LOCATION:Nat Bailey Stadium 4601 Ontario St.  Vancouver
DESCRIPTION:Schedule: \nGates Open/Ticket Pick-up: 6:30 - 7:00 p.m.\n Game and Networking: 7:05 p.m.\n \nEvent Detail Page: https://www.boardoftrade.com/events/7601
X-ALT-DESC;FMTTYPE=text/html:<!doctype html><html><body><div>Schedule: <p>Gates Open/Ticket Pick-up: 6:30 - 7:00 p.m.<BR> Game and Networking: 7:05 p.m.</p></div>&nbsp\;<div>Event Detail Page: https://www.boardoftrade.com/events/7601</div></body></html>

SUMMARY:Vancouver Canadians Game
END:VEVENT
END:VCALENDAR