
BEGIN:VCALENDAR
VERSION:2.0
CALSCALE:GREGORIAN
BEGIN:VEVENT
URL;VALUE=URI:https://www.boardoftrade.com/events/7599
DTSTART:20230606T153000Z
DTEND:20230606T170000Z
UID:7599eventcalendar.boardoftrade.com
DTSTAMP:20260419T160457Z
LOCATION:UBC Robson Square  Theatre (C300) - Classroom Level  800 Robson Street Vancouver
DESCRIPTION:Schedule: \nRegistration\, Breakfast & Networking: 8:30  - 9:15 a.m.\nProgram and Q&A: 9:15 - 10:00 a.m.\n \nEvent Detail Page: https://www.boardoftrade.com/events/7599
X-ALT-DESC;FMTTYPE=text/html:<!doctype html><html><body><div>Schedule: <p>Registration\, Breakfast & Networking: 8:30  - 9:15 a.m.<BR>Program and Q&A: 9:15 - 10:00 a.m.</p></div>&nbsp\;<div>Event Detail Page: https://www.boardoftrade.com/events/7599</div></body></html>

SUMMARY:Impact Series: 2023 SMEs Fiscal Update
END:VEVENT
END:VCALENDAR