
BEGIN:VCALENDAR
VERSION:2.0
CALSCALE:GREGORIAN
BEGIN:VEVENT
URL;VALUE=URI:https://www.boardoftrade.com/events/7596
DTSTART:20230512T000000Z
DTEND:20230512T020000Z
UID:7596eventcalendar.boardoftrade.com
DTSTAMP:20260419T160513Z
LOCATION:FlyOver Canada  201- 999 Canada Place Vancouver
DESCRIPTION:Schedule: \nReception/Social: 5:00 - 6:35 p.m.\n Flyover Canada Experience: 6:45 - 7:10 p.m.\n \nEvent Detail Page: https://www.boardoftrade.com/events/7596
X-ALT-DESC;FMTTYPE=text/html:<!doctype html><html><body><div>Schedule: <p>Reception/Social: 5:00 - 6:35 p.m.<BR> Flyover Canada Experience: 6:45 - 7:10 p.m.</p></div>&nbsp\;<div>Event Detail Page: https://www.boardoftrade.com/events/7596</div></body></html>

SUMMARY:Flyover Canada
END:VEVENT
END:VCALENDAR