
BEGIN:VCALENDAR
VERSION:2.0
CALSCALE:GREGORIAN
BEGIN:VEVENT
URL;VALUE=URI:https://www.boardoftrade.com/events/7588
DTSTART:20230530T180000Z
DTEND:20230530T230000Z
UID:7588eventcalendar.boardoftrade.com
DTSTAMP:20260419T160618Z
LOCATION:Swaneset Bay Resort & Country Club  16651 Rannie Rd Pitt Meadows
DESCRIPTION:Schedule: \nFirst Tee Time: 11:00 a.m. \n\n Subsequent foursomes will tee off in ten-minute increments. <p> </p> <strong>Notes:</strong> <ul> <li>There is a limit of 24 players per event </li> <li>Players must be members of the GVBOT or approved special guests </li> <li>GVBOT will create foursomes but you may request to play with specific people\, and we will do our best to accommodate </li> <li>Payment must be made at time of registration </li> <li>Players are asked to arrive at the course based on their assigned tee time </li> <li>All rounds include a cart that accommodates two players </li> <li>Players are responsible for their own transportation to and from the course </li> </ul> \n \nEvent Detail Page: https://www.boardoftrade.com/events/7588
X-ALT-DESC;FMTTYPE=text/html:<!doctype html><html><body><div>Schedule: <p>First Tee Time: 11:00 a.m. <BR><BR> Subsequent foursomes will tee off in ten-minute increments. <p>&nbsp\;</p> <strong>Notes:</strong> <ul> <li>There is a limit of 24 players per event </li> <li>Players must be members of the GVBOT or approved special guests </li> <li>GVBOT will create foursomes but you may request to play with specific people\, and we will do our best to accommodate </li> <li>Payment must be made at time of registration </li> <li>Players are asked to arrive at the course based on their assigned tee time </li> <li>All rounds include a cart that accommodates two players </li> <li>Players are responsible for their own transportation to and from the course </li> </ul> </p></div>&nbsp\;<div>Event Detail Page: https://www.boardoftrade.com/events/7588</div></body></html>

SUMMARY:GVBOT Golf Tour - Swaneset Bay Resort & Country Club
END:VEVENT
END:VCALENDAR