
BEGIN:VCALENDAR
VERSION:2.0
CALSCALE:GREGORIAN
BEGIN:VEVENT
URL;VALUE=URI:https://www.boardoftrade.com/events/7586
DTSTART:20230712T193000Z
DTEND:20230712T230000Z
UID:7586eventcalendar.boardoftrade.com
DTSTAMP:20260419T160443Z
LOCATION:BC Place Stadium - East Entrance 777 Pacific Blvd Vancouver
DESCRIPTION:Schedule: \nArrive at the Stadium: 12:30 p.m.<br> GVBOT Corporate Cup: 1:00 - 4:00 p.m. <br><br> <strong>Watch Match:</strong><br> Vancouver Whitecaps vs Austin FC:  7:30 p.m.\n \nEvent Detail Page: https://www.boardoftrade.com/events/7586
X-ALT-DESC;FMTTYPE=text/html:<!doctype html><html><body><div>Schedule: <p>Arrive at the Stadium: 12:30 p.m.<br> GVBOT Corporate Cup: 1:00 - 4:00 p.m. <br><br> <strong>Watch Match:</strong><br> Vancouver Whitecaps vs Austin FC:  7:30 p.m.</p></div>&nbsp\;<div>Event Detail Page: https://www.boardoftrade.com/events/7586</div></body></html>

SUMMARY:GVBOT Corporate Cup 2023
END:VEVENT
END:VCALENDAR