
BEGIN:VCALENDAR
VERSION:2.0
CALSCALE:GREGORIAN
BEGIN:VEVENT
URL;VALUE=URI:https://www.boardoftrade.com/events/7583
DTSTART:20230510T153000Z
DTEND:20230510T170000Z
UID:7583eventcalendar.boardoftrade.com
DTSTAMP:20260419T160458Z
LOCATION:Northeastern University1400 - 410 West Georgia St.Vancouver
DESCRIPTION:Schedule: \nRegistration\, Breakfast & Networking: 8:30  - 9:15 a.m.\nProgram and Q&A: 9:15 - 10:00 a.m.\n \nEvent Detail Page: https://www.boardoftrade.com/events/7583
X-ALT-DESC;FMTTYPE=text/html:<!doctype html><html><body><div>Schedule: <p>Registration\, Breakfast & Networking: 8:30  - 9:15 a.m.<BR>Program and Q&A: 9:15 - 10:00 a.m.</p></div>&nbsp\;<div>Event Detail Page: https://www.boardoftrade.com/events/7583</div></body></html>

SUMMARY:Understanding Labour Employment Law for Gig Workers\, Independent Contractors\, and Temporary Workers
END:VEVENT
END:VCALENDAR