
BEGIN:VCALENDAR
VERSION:2.0
CALSCALE:GREGORIAN
BEGIN:VEVENT
URL;VALUE=URI:https://www.boardoftrade.com/events/7582
DTSTART:20230525T153000Z
DTEND:20230525T233000Z
UID:7582eventcalendar.boardoftrade.com
DTSTAMP:20260419T160628Z
LOCATION:SFU | Segal Graduate School of Business 500 Granville St\, Vancouver
DESCRIPTION:Schedule: \n<p>Light Breakfast & Registration: 8:30  - 9:00 a.m. \nProgram: 9:00 a.m. - 12:00 p.m.\nNetworking Lunch: 12:30 - 1:30 p.m.\nProgram: 1:00 - 4:30 p.m.</p> <p>If you have any questions\, please contact us at <a href="mailto:info@wtcvancouver.ca">info@wtcvancouver.ca</a> or 604-640-5487</p> \n \nEvent Detail Page: https://www.boardoftrade.com/events/7582
X-ALT-DESC;FMTTYPE=text/html:<!doctype html><html><body><div>Schedule: <p><p>Light Breakfast & Registration: 8:30  - 9:00 a.m. <BR>Program: 9:00 a.m. - 12:00 p.m.<BR>Networking Lunch: 12:30 - 1:30 p.m.<BR>Program: 1:00 - 4:30 p.m.</p> <p>If you have any questions\, please contact us at <a href="mailto:info@wtcvancouver.ca">info@wtcvancouver.ca</a> or 604-640-5487</p> </p></div>&nbsp\;<div>Event Detail Page: https://www.boardoftrade.com/events/7582</div></body></html>

SUMMARY:Digital Transformation Workshop
END:VEVENT
END:VCALENDAR