
BEGIN:VCALENDAR
VERSION:2.0
CALSCALE:GREGORIAN
BEGIN:VEVENT
URL;VALUE=URI:https://www.boardoftrade.com/events/7580
DTSTART:20230613T150000Z
DTEND:20230613T163000Z
UID:7580eventcalendar.boardoftrade.com
DTSTAMP:20260419T160446Z
LOCATION:Fairmont Hotel Vancouver Pacific Ballroom 900 W Georgia St\, Vancouver
DESCRIPTION:Schedule: \nRegistration & Breakfast: 8:00 a.m. - 8:30 a.m. PT Program: 8:30 – 9:30 a.m. PT\n \nEvent Detail Page: https://www.boardoftrade.com/events/7580
X-ALT-DESC;FMTTYPE=text/html:<!doctype html><html><body><div>Schedule: <p>Registration & Breakfast: 8:00 a.m. - 8:30 a.m. PT Program: 8:30 – 9:30 a.m. PT</p></div>&nbsp\;<div>Event Detail Page: https://www.boardoftrade.com/events/7580</div></body></html>

SUMMARY:Metro Vancouver - Together We Make Our Region Strong
END:VEVENT
END:VCALENDAR