
BEGIN:VCALENDAR
VERSION:2.0
CALSCALE:GREGORIAN
BEGIN:VEVENT
URL;VALUE=URI:https://www.boardoftrade.com/events/7578
DTSTART:20230623T150000Z
DTEND:20230623T221500Z
UID:7578eventcalendar.boardoftrade.com
DTSTAMP:20260419T160550Z
LOCATION:The Westin Bayshore - Grand Ballroom  1601 Bayshore Dr.  Vancouver
DESCRIPTION:Schedule: \nRegistration & Breakfast:  8:00 – 8:30 a.m. PT<br> Program:  8:30 – 11:45 a.m. PT<br> Lunch: 11:45 a.m. – 12:30 p.m. PT<br> Program: 12:30 – 3:15 p.m. PT<br> \n \nEvent Detail Page: https://www.boardoftrade.com/events/7578
X-ALT-DESC;FMTTYPE=text/html:<!doctype html><html><body><div>Schedule: <p>Registration & Breakfast:  8:00 – 8:30 a.m. PT<br> Program:  8:30 – 11:45 a.m. PT<br> Lunch: 11:45 a.m. – 12:30 p.m. PT<br> Program: 12:30 – 3:15 p.m. PT<br> </p></div>&nbsp\;<div>Event Detail Page: https://www.boardoftrade.com/events/7578</div></body></html>

SUMMARY:Building a Better Future Together through Diversity and Inclusivity
END:VEVENT
END:VCALENDAR