
BEGIN:VCALENDAR
VERSION:2.0
CALSCALE:GREGORIAN
BEGIN:VEVENT
URL;VALUE=URI:https://www.boardoftrade.com/events/7574
DTSTART:20230323T000000Z
DTEND:20230323T020000Z
UID:7574eventcalendar.boardoftrade.com
DTSTAMP:20260419T160446Z
LOCATION:Northeastern University 410 W. Georgia Street\, Vancouver
DESCRIPTION:Event Detail Page: https://www.boardoftrade.com/events/7574
X-ALT-DESC;FMTTYPE=text/html:<!doctype html><html><body><div>Event Detail Page: https://www.boardoftrade.com/events/7574</div></body></html>

SUMMARY:Know Your Ikigai. Make Your Next Career Move.
END:VEVENT
END:VCALENDAR