
BEGIN:VCALENDAR
VERSION:2.0
CALSCALE:GREGORIAN
BEGIN:VEVENT
URL;VALUE=URI:https://www.boardoftrade.com/events/7569
DTSTART:20230427T153000Z
DTEND:20230427T171500Z
UID:7569eventcalendar.boardoftrade.com
DTSTAMP:20260419T160455Z
LOCATION:Pinnacle Hotel Harbourfront | Harbourfront Ballroom  | 1133 Hasting St. W.\, Vancouver  | 
DESCRIPTION:Schedule: \nRegistration & Breakfast:  8:30 - 9:00 a.m. PT\n Program: 9:00 - 10:15 a.m. PT\n \nEvent Detail Page: https://www.boardoftrade.com/events/7569
X-ALT-DESC;FMTTYPE=text/html:<!doctype html><html><body><div>Schedule: <p>Registration & Breakfast:  8:30 - 9:00 a.m. PT<BR> Program: 9:00 - 10:15 a.m. PT</p></div>&nbsp\;<div>Event Detail Page: https://www.boardoftrade.com/events/7569</div></body></html>

SUMMARY:Leadership through Recovery
END:VEVENT
END:VCALENDAR