
BEGIN:VCALENDAR
VERSION:2.0
CALSCALE:GREGORIAN
BEGIN:VEVENT
URL;VALUE=URI:https://www.boardoftrade.com/events/7568
DTSTART:20230516T183000Z
DTEND:20230516T203000Z
UID:7568eventcalendar.boardoftrade.com
DTSTAMP:20260419T160513Z
LOCATION:Fairmont Waterfront Hotel - Waterfront Ballroom  900 Canada Place Vancouver
DESCRIPTION:Schedule: \nRegistration & Lunch: 11:30 a.m. - 12:30 p.m. PT Program: 12:30 – 1:30 p.m. PT\n \nEvent Detail Page: https://www.boardoftrade.com/events/7568
X-ALT-DESC;FMTTYPE=text/html:<!doctype html><html><body><div>Schedule: <p>Registration & Lunch: 11:30 a.m. - 12:30 p.m. PT Program: 12:30 – 1:30 p.m. PT</p></div>&nbsp\;<div>Event Detail Page: https://www.boardoftrade.com/events/7568</div></body></html>

SUMMARY:Unlocking B.C.’s Critical Minerals Potential
END:VEVENT
END:VCALENDAR