
BEGIN:VCALENDAR
VERSION:2.0
CALSCALE:GREGORIAN
BEGIN:VEVENT
URL;VALUE=URI:https://www.boardoftrade.com/events/7565
DTSTART:20230406T160000Z
DTEND:20230406T190000Z
UID:7565eventcalendar.boardoftrade.com
DTSTAMP:20260419T160457Z
LOCATION:Greater Vancouver Board of Trade Office  World Trade Centre  400 - 999 Canada Place\, Vancouver
DESCRIPTION:Schedule: \nThursday\, April 6 - May 4\n9:00 a.m. - 12:00 p.m. PT \nRegistration deadline: March 23\, 2023\n \nEvent Detail Page: https://www.boardoftrade.com/events/7565
X-ALT-DESC;FMTTYPE=text/html:<!doctype html><html><body><div>Schedule: <p>Thursday\, April 6 - May 4<BR>9:00 a.m. - 12:00 p.m. PT <BR><B>Registration deadline: March 23\, 2023</B></p></div>&nbsp\;<div>Event Detail Page: https://www.boardoftrade.com/events/7565</div></body></html>

SUMMARY:ESG Fundamentals Microcredential: Design your ESG action plan
END:VEVENT
END:VCALENDAR