
BEGIN:VCALENDAR
VERSION:2.0
CALSCALE:GREGORIAN
BEGIN:VEVENT
URL;VALUE=URI:https://www.boardoftrade.com/events/7562
DTSTART:20230412T160000Z
DTEND:20230412T233000Z
UID:7562eventcalendar.boardoftrade.com
DTSTAMP:20260419T160620Z
LOCATION:Hampton Inn & Suites by Kelowna Airport1665 Innovation Dr\, Kelowna\, BC V1V 2Y9 
DESCRIPTION:Event Detail Page: https://www.boardoftrade.com/events/7562
X-ALT-DESC;FMTTYPE=text/html:<!doctype html><html><body><div>Event Detail Page: https://www.boardoftrade.com/events/7562</div></body></html>

SUMMARY:Trade Accelerator Program: B.C. Interior Cohort
END:VEVENT
END:VCALENDAR