
BEGIN:VCALENDAR
VERSION:2.0
CALSCALE:GREGORIAN
BEGIN:VEVENT
URL;VALUE=URI:https://www.boardoftrade.com/events/7557
DTSTART:20230223T000000Z
DTEND:20230223T030000Z
UID:7557eventcalendar.boardoftrade.com
DTSTAMP:20260422T192103Z
LOCATION:Mt Seymour 1700 Mount Seymour Road North Vancouver
DESCRIPTION:Schedule: \nArrival and Registration: 4:00 - 4:30 p.m.<br> Snowshoe Tour: 4:30 - 6:00 p.m.<br> Social Networking Recption: 6:00 - 7:00 p.m.\n \nEvent Detail Page: https://www.boardoftrade.com/events/7557
X-ALT-DESC;FMTTYPE=text/html:<!doctype html><html><body><div>Schedule: <p>Arrival and Registration: 4:00 - 4:30 p.m.<br> Snowshoe Tour: 4:30 - 6:00 p.m.<br> Social Networking Recption: 6:00 - 7:00 p.m.</p></div>&nbsp\;<div>Event Detail Page: https://www.boardoftrade.com/events/7557</div></body></html>

SUMMARY:Members' Experience: Snowshoeing at Mount Seymour
END:VEVENT
END:VCALENDAR