
BEGIN:VCALENDAR
VERSION:2.0
CALSCALE:GREGORIAN
BEGIN:VEVENT
URL;VALUE=URI:https://www.boardoftrade.com/events/7554
DTSTART:20230126T013000Z
DTEND:20230126T033000Z
UID:7554eventcalendar.boardoftrade.com
DTSTAMP:20260419T142219Z
LOCATION:Pinnacle Hotel Harbourfront - 360 Vistas Room  1133 West Hastings St.\, Vancouver 
DESCRIPTION:Schedule: \nRegistration & Reception: 5:30 - 6:00 p.m.<br> Speed Networking: 6:00 - 7:00 p.m.<br> Open Networking: 7:00 - 7:30 p.m.<br>\n \nEvent Detail Page: https://www.boardoftrade.com/events/7554
X-ALT-DESC;FMTTYPE=text/html:<!doctype html><html><body><div>Schedule: <p>Registration & Reception: 5:30 - 6:00 p.m.<br> Speed Networking: 6:00 - 7:00 p.m.<br> Open Networking: 7:00 - 7:30 p.m.<br></p></div>&nbsp\;<div>Event Detail Page: https://www.boardoftrade.com/events/7554</div></body></html>

SUMMARY:Discovery Series: 17th Annual Speed Networking Night
END:VEVENT
END:VCALENDAR