
BEGIN:VCALENDAR
VERSION:2.0
CALSCALE:GREGORIAN
BEGIN:VEVENT
URL;VALUE=URI:https://www.boardoftrade.com/events/7553
DTSTART:20230216T230000Z
DTEND:20230217T010000Z
UID:7553eventcalendar.boardoftrade.com
DTSTAMP:20260419T144517Z
LOCATION:H TASTING LOUNGE 1601 Bayshore Drive Vancouver
DESCRIPTION:Schedule: \nReception/Social: 3:00 - 5:00 p.m.\n \nEvent Detail Page: https://www.boardoftrade.com/events/7553
X-ALT-DESC;FMTTYPE=text/html:<!doctype html><html><body><div>Schedule: <p>Reception/Social: 3:00 - 5:00 p.m.</p></div>&nbsp\;<div>Event Detail Page: https://www.boardoftrade.com/events/7553</div></body></html>

SUMMARY:Members' Experience - Winterlust
END:VEVENT
END:VCALENDAR