
BEGIN:VCALENDAR
VERSION:2.0
CALSCALE:GREGORIAN
BEGIN:VEVENT
URL;VALUE=URI:https://www.boardoftrade.com/events/7550
DTSTART:20230207T194500Z
DTEND:20230207T213000Z
UID:7550eventcalendar.boardoftrade.com
DTSTAMP:20260419T141956Z
LOCATION:Fairmont Hotel Vancouver | Pacific Ballroom  | 900 W Georgia St.\, Vancouver  | 
DESCRIPTION:Schedule: \nRegistration and Lunch:  11:45 a.m. - 12:30 p.m. PT\nProgram:  12:30 - 1:30 p.m. PT\n \nEvent Detail Page: https://www.boardoftrade.com/events/7550
X-ALT-DESC;FMTTYPE=text/html:<!doctype html><html><body><div>Schedule: <p>Registration and Lunch:  11:45 a.m. - 12:30 p.m. PT<BR>Program:  12:30 - 1:30 p.m. PT</p></div>&nbsp\;<div>Event Detail Page: https://www.boardoftrade.com/events/7550</div></body></html>

SUMMARY:BC Hydro's electrification plan: A clean future powered by water
END:VEVENT
END:VCALENDAR