
BEGIN:VCALENDAR
VERSION:2.0
CALSCALE:GREGORIAN
BEGIN:VEVENT
URL;VALUE=URI:https://www.boardoftrade.com/events/7548
DTSTART:20230113T220000Z
DTEND:20230114T000000Z
UID:7548eventcalendar.boardoftrade.com
DTSTAMP:20260419T141919Z
LOCATION:Vancouver Curling Club 4575 Clancy Loranger Way Vancouver\, B.C.
DESCRIPTION:Schedule: \nCurling: 2:00 - 4:00 p.m.<br> Reception/Social: 4:00 - 5:00 p.m.\n \nEvent Detail Page: https://www.boardoftrade.com/events/7548
X-ALT-DESC;FMTTYPE=text/html:<!doctype html><html><body><div>Schedule: <p>Curling: 2:00 - 4:00 p.m.<br> Reception/Social: 4:00 - 5:00 p.m.</p></div>&nbsp\;<div>Event Detail Page: https://www.boardoftrade.com/events/7548</div></body></html>

SUMMARY:Members' Experience - Curling & Connecting
END:VEVENT
END:VCALENDAR