
BEGIN:VCALENDAR
VERSION:2.0
CALSCALE:GREGORIAN
BEGIN:VEVENT
URL;VALUE=URI:https://www.boardoftrade.com/events/7543
DTSTART:20230123T170000Z
DTEND:20230123T190000Z
UID:7543eventcalendar.boardoftrade.com
DTSTAMP:20260419T142126Z
LOCATION:
DESCRIPTION:Schedule: \n9 - 11 a.m.<br><br> Session 1: Monday\, January 23 <br> Session 2: Tuesday\, January 24 <br> Session 3: Wednesday\, January 25\n \nEvent Detail Page: https://www.boardoftrade.com/events/7543
X-ALT-DESC;FMTTYPE=text/html:<!doctype html><html><body><div>Schedule: <p>9 - 11 a.m.<br><br> Session 1: Monday\, January 23 <br> Session 2: Tuesday\, January 24 <br> Session 3: Wednesday\, January 25</p></div>&nbsp\;<div>Event Detail Page: https://www.boardoftrade.com/events/7543</div></body></html>

SUMMARY:Diversity and Inclusion: IDEA Fundamentals Certification
END:VEVENT
END:VCALENDAR