
BEGIN:VCALENDAR
VERSION:2.0
CALSCALE:GREGORIAN
BEGIN:VEVENT
URL;VALUE=URI:https://www.boardoftrade.com/events/7542
DTSTART:20230202T170000Z
DTEND:20230202T200000Z
UID:7542eventcalendar.boardoftrade.com
DTSTAMP:20260419T142135Z
LOCATION:Greater Vancouver Board of Trade Office  World Trade Centre  400 - 999 Canada Place\, Vancouver
DESCRIPTION:Schedule: \nThursday\, February 2 - March 2\n9:00 a.m. - 12:00 p.m. PT \nRegistration deadline: January 25\, 2023\n \nEvent Detail Page: https://www.boardoftrade.com/events/7542
X-ALT-DESC;FMTTYPE=text/html:<!doctype html><html><body><div>Schedule: <p>Thursday\, February 2 - March 2<BR>9:00 a.m. - 12:00 p.m. PT <BR><B>Registration deadline: January 25\, 2023</B></p></div>&nbsp\;<div>Event Detail Page: https://www.boardoftrade.com/events/7542</div></body></html>

SUMMARY:ESG Fundamentals Microcredential: Design your ESG action plan
END:VEVENT
END:VCALENDAR