
BEGIN:VCALENDAR
VERSION:2.0
CALSCALE:GREGORIAN
BEGIN:VEVENT
URL;VALUE=URI:https://www.boardoftrade.com/events/7537
DTSTART:20230209T000000Z
DTEND:20230209T020000Z
UID:7537eventcalendar.boardoftrade.com
DTSTAMP:20260419T142008Z
LOCATION:The Vancouver ClubUniversity Rooms915 West Hastings StreetVancouver
DESCRIPTION:Schedule: \nRegistration: 4:00 - 4:30 p.m.\nPresentation and Q&A: 4:30 - 5:15 p.m.\nNetworking reception: 5:15 - 6:00 p.m.<br><br> <em>Light refreshments and beverages will be served.</em>\n \nEvent Detail Page: https://www.boardoftrade.com/events/7537
X-ALT-DESC;FMTTYPE=text/html:<!doctype html><html><body><div>Schedule: <p>Registration: 4:00 - 4:30 p.m.<BR>Presentation and Q&A: 4:30 - 5:15 p.m.<BR>Networking reception: 5:15 - 6:00 p.m.<br><br> <em>Light refreshments and beverages will be served.</em></p></div>&nbsp\;<div>Event Detail Page: https://www.boardoftrade.com/events/7537</div></body></html>

SUMMARY:Impact Series: Financing Strategies for Growth
END:VEVENT
END:VCALENDAR