
BEGIN:VCALENDAR
VERSION:2.0
CALSCALE:GREGORIAN
BEGIN:VEVENT
URL;VALUE=URI:https://www.boardoftrade.com/events/7531
DTSTART:20221217T023000Z
DTEND:20221217T060000Z
UID:7531eventcalendar.boardoftrade.com
DTSTAMP:20260419T142048Z
LOCATION:Orpheum Theatre 601 Smithe St\, Vancouver | 
DESCRIPTION:Schedule: \nGVBOT Cocktail Reception: 6:30 - 7:30 p.m. <br>Concert: 7:30 p.m.\n \nEvent Detail Page: https://www.boardoftrade.com/events/7531
X-ALT-DESC;FMTTYPE=text/html:<!doctype html><html><body><div>Schedule: <p>GVBOT Cocktail Reception: 6:30 - 7:30 p.m. <br>Concert: 7:30 p.m.</p></div>&nbsp\;<div>Event Detail Page: https://www.boardoftrade.com/events/7531</div></body></html>

SUMMARY:Members' Experience At VSO - A Traditional Christmas
END:VEVENT
END:VCALENDAR