
BEGIN:VCALENDAR
VERSION:2.0
CALSCALE:GREGORIAN
BEGIN:VEVENT
URL;VALUE=URI:https://www.boardoftrade.com/events/7529
DTSTART:20230421T001500Z
DTEND:20230421T043000Z
UID:7529eventcalendar.boardoftrade.com
DTSTAMP:20260419T160629Z
LOCATION:JW Marriott Parq Vancouver  Parq Grand Ballroom  39 Smithe Street   |     Use the Douglas Hotel Entrance and take the Elevator to Conference Floor (CF).   Click image to download map.   
DESCRIPTION:Schedule: \nReception:  5:15 p.m. <br>Dinner and Awards:  6:30 p.m. <br>Dessert Reception:  8:30 p.m.\n \nEvent Detail Page: https://www.boardoftrade.com/events/7529
X-ALT-DESC;FMTTYPE=text/html:<!doctype html><html><body><div>Schedule: <p>Reception:  5:15 p.m. <br>Dinner and Awards:  6:30 p.m. <br>Dessert Reception:  8:30 p.m.</p></div>&nbsp\;<div>Event Detail Page: https://www.boardoftrade.com/events/7529</div></body></html>

SUMMARY:Governors' Gala & Rix Awards 2023
END:VEVENT
END:VCALENDAR