
BEGIN:VCALENDAR
VERSION:2.0
CALSCALE:GREGORIAN
BEGIN:VEVENT
URL;VALUE=URI:https://www.boardoftrade.com/events/7528
DTSTART:20221114T170000Z
DTEND:20221114T190000Z
UID:7528eventcalendar.boardoftrade.com
DTSTAMP:20260419T141920Z
LOCATION:
DESCRIPTION:Schedule: \n9 a.m - 11 a.m.<br><br> Session 1: Monday\, November 14\, 2022 <br> Session 2: Tuesday\, November 15\, 2022 <br> Session 3: Wednesday\, November 16\, 2022\n \nEvent Detail Page: https://www.boardoftrade.com/events/7528
X-ALT-DESC;FMTTYPE=text/html:<!doctype html><html><body><div>Schedule: <p>9 a.m - 11 a.m.<br><br> Session 1: Monday\, November 14\, 2022 <br> Session 2: Tuesday\, November 15\, 2022 <br> Session 3: Wednesday\, November 16\, 2022</p></div>&nbsp\;<div>Event Detail Page: https://www.boardoftrade.com/events/7528</div></body></html>

SUMMARY:Diversity and Inclusion: IDEA Fundamentals Certification
END:VEVENT
END:VCALENDAR