
BEGIN:VCALENDAR
VERSION:2.0
CALSCALE:GREGORIAN
BEGIN:VEVENT
URL;VALUE=URI:https://www.boardoftrade.com/events/7521
DTSTART:20221029T013000Z
DTEND:20221029T050000Z
UID:7521eventcalendar.boardoftrade.com
DTSTAMP:20260419T142326Z
LOCATION:Orpheum Theatre 601 Smithe St\, Vancouver | 
DESCRIPTION:Schedule: \nGVBOT Cocktail Reception: 7:00 - 8:00 p.m. <br>Concert: 8:00 p.m.\n \nEvent Detail Page: https://www.boardoftrade.com/events/7521
X-ALT-DESC;FMTTYPE=text/html:<!doctype html><html><body><div>Schedule: <p>GVBOT Cocktail Reception: 7:00 - 8:00 p.m. <br>Concert: 8:00 p.m.</p></div>&nbsp\;<div>Event Detail Page: https://www.boardoftrade.com/events/7521</div></body></html>

SUMMARY:Members' Experience At VSO - Sarah Slean: A Joni Mitchell Tribute
END:VEVENT
END:VCALENDAR