
BEGIN:VCALENDAR
VERSION:2.0
CALSCALE:GREGORIAN
BEGIN:VEVENT
URL;VALUE=URI:https://www.boardoftrade.com/events/7519
DTSTART:20221012T160000Z
DTEND:20221012T173000Z
UID:7519eventcalendar.boardoftrade.com
DTSTAMP:20260419T142126Z
LOCATION:
DESCRIPTION:Schedule: \nOnline Program: 9:00 - 10:30 a.m. PT\n \nEvent Detail Page: https://www.boardoftrade.com/events/7519
X-ALT-DESC;FMTTYPE=text/html:<!doctype html><html><body><div>Schedule: <p>Online Program: 9:00 - 10:30 a.m. PT</p></div>&nbsp\;<div>Event Detail Page: https://www.boardoftrade.com/events/7519</div></body></html>

SUMMARY:October Board 101 - Member Orientation
END:VEVENT
END:VCALENDAR