
BEGIN:VCALENDAR
VERSION:2.0
CALSCALE:GREGORIAN
BEGIN:VEVENT
URL;VALUE=URI:https://www.boardoftrade.com/events/7517
DTSTART:20221123T193000Z
DTEND:20221123T210000Z
UID:7517eventcalendar.boardoftrade.com
DTSTAMP:20260419T142053Z
LOCATION:Fairmont Hotel Vancouver | Pacific Ballroom  | 900 W Georgia St.\, Vancouver  | 
DESCRIPTION:Schedule: \nRegistration and Lunch:  11:30 a.m. - 12:00 p.m. PT\nProgram:  12:00 - 1:00 p.m. PT\n \nEvent Detail Page: https://www.boardoftrade.com/events/7517
X-ALT-DESC;FMTTYPE=text/html:<!doctype html><html><body><div>Schedule: <p>Registration and Lunch:  11:30 a.m. - 12:00 p.m. PT<BR>Program:  12:00 - 1:00 p.m. PT</p></div>&nbsp\;<div>Event Detail Page: https://www.boardoftrade.com/events/7517</div></body></html>

SUMMARY:TransLink’s Annual Address: Advancing the future of transportation
END:VEVENT
END:VCALENDAR