
BEGIN:VCALENDAR
VERSION:2.0
CALSCALE:GREGORIAN
BEGIN:VEVENT
URL;VALUE=URI:https://www.boardoftrade.com/events/7515
DTSTART:20221129T194500Z
DTEND:20221129T220000Z
UID:7515eventcalendar.boardoftrade.com
DTSTAMP:20260419T142219Z
LOCATION:Fairmont Waterfront | Waterfront Ballroom  | 900 Canada Pl\, Vancouver  | 
DESCRIPTION:Schedule: \nRegistration & Lunch: 11:45 a.m. - 12:30 p.m. PT Program: 12:30 – 2:00 p.m. PT\n \nEvent Detail Page: https://www.boardoftrade.com/events/7515
X-ALT-DESC;FMTTYPE=text/html:<!doctype html><html><body><div>Schedule: <p>Registration & Lunch: 11:45 a.m. - 12:30 p.m. PT Program: 12:30 – 2:00 p.m. PT</p></div>&nbsp\;<div>Event Detail Page: https://www.boardoftrade.com/events/7515</div></body></html>

SUMMARY:Solving B.C.’s Workforce Gap
END:VEVENT
END:VCALENDAR