
BEGIN:VCALENDAR
VERSION:2.0
CALSCALE:GREGORIAN
BEGIN:VEVENT
URL;VALUE=URI:https://www.boardoftrade.com/events/7514
DTSTART:20220929T183000Z
DTEND:20220929T200000Z
UID:7514eventcalendar.boardoftrade.com
DTSTAMP:20260419T142217Z
LOCATION:Fairmont Pacific Rim Star Sapphire Ballroom 1038 Canada Place\, Vancouver
DESCRIPTION:Schedule: \nRegistration and Lunch:  11:30 a.m. - 12:00 p.m. PT\nProgram:  12:00 - 1:00 p.m. PT\n \nEvent Detail Page: https://www.boardoftrade.com/events/7514
X-ALT-DESC;FMTTYPE=text/html:<!doctype html><html><body><div>Schedule: <p>Registration and Lunch:  11:30 a.m. - 12:00 p.m. PT<BR>Program:  12:00 - 1:00 p.m. PT</p></div>&nbsp\;<div>Event Detail Page: https://www.boardoftrade.com/events/7514</div></body></html>

SUMMARY:Canadian exports for a sustainable future
END:VEVENT
END:VCALENDAR