
BEGIN:VCALENDAR
VERSION:2.0
CALSCALE:GREGORIAN
BEGIN:VEVENT
URL;VALUE=URI:https://www.boardoftrade.com/events/7511
DTSTART:20230222T170000Z
DTEND:20230223T003000Z
UID:7511eventcalendar.boardoftrade.com
DTSTAMP:20260419T142135Z
LOCATION:KPMG Vancouver\,777 Dunsmuir St 11th Floor\, VancouverIn Person and Virtual Option
DESCRIPTION:Event Detail Page: https://www.boardoftrade.com/events/7511
X-ALT-DESC;FMTTYPE=text/html:<!doctype html><html><body><div>Event Detail Page: https://www.boardoftrade.com/events/7511</div></body></html>

SUMMARY:Trade Accelerator Program: Indigenous Business Cohort
END:VEVENT
END:VCALENDAR