
BEGIN:VCALENDAR
VERSION:2.0
CALSCALE:GREGORIAN
BEGIN:VEVENT
URL;VALUE=URI:https://www.boardoftrade.com/events/7510
DTSTART:20221014T150000Z
DTEND:20221014T163000Z
UID:7510eventcalendar.boardoftrade.com
DTSTAMP:20260419T142050Z
LOCATION:Pan Pacific Hotel Vancouver | Oceanview 5-8  | 300-999 Canada Place\, Vancouver  | 
DESCRIPTION:Schedule: \nRegistration and Breakfast: 8:00 a.m - 8:30 a.m PT\nProgram: 8:30 a.m - 9:30 a.m. PT\n \nEvent Detail Page: https://www.boardoftrade.com/events/7510
X-ALT-DESC;FMTTYPE=text/html:<!doctype html><html><body><div>Schedule: <p>Registration and Breakfast: 8:00 a.m - 8:30 a.m PT<BR>Program: 8:30 a.m - 9:30 a.m. PT</p></div>&nbsp\;<div>Event Detail Page: https://www.boardoftrade.com/events/7510</div></body></html>

SUMMARY:A Breakfast with the Honourable Randy Boissonnault: A Vision for the Canadian Tourism Economy
END:VEVENT
END:VCALENDAR