
BEGIN:VCALENDAR
VERSION:2.0
CALSCALE:GREGORIAN
BEGIN:VEVENT
URL;VALUE=URI:https://www.boardoftrade.com/events/7507
DTSTART:20221012T150000Z
DTEND:20221012T163000Z
UID:7507eventcalendar.boardoftrade.com
DTSTAMP:20260419T142243Z
LOCATION:Fairmont Waterfront - Waterfront Ballroom | 900 Canada Place\, Vancouver\, BC. | 
DESCRIPTION:Schedule: \nRegistration and Breakfast:  8:00 a.m. - 8:30 a.m. PT\nProgram:  8:30 a.m. - 9:30 a.m. PT\n \nEvent Detail Page: https://www.boardoftrade.com/events/7507
X-ALT-DESC;FMTTYPE=text/html:<!doctype html><html><body><div>Schedule: <p>Registration and Breakfast:  8:00 a.m. - 8:30 a.m. PT<BR>Program:  8:30 a.m. - 9:30 a.m. PT</p></div>&nbsp\;<div>Event Detail Page: https://www.boardoftrade.com/events/7507</div></body></html>

SUMMARY:Invictus Games: I AM coming to Vancouver
END:VEVENT
END:VCALENDAR