
BEGIN:VCALENDAR
VERSION:2.0
CALSCALE:GREGORIAN
BEGIN:VEVENT
URL;VALUE=URI:https://www.boardoftrade.com/events/7506
DTSTART:20221006T160000Z
DTEND:20221006T190000Z
UID:7506eventcalendar.boardoftrade.com
DTSTAMP:20260419T142325Z
LOCATION:Greater Vancouver Board of Trade Office  World Trade Centre  400 - 999 Canada Place\, Vancouver
DESCRIPTION:Schedule: \nThursday\, October 6 - November 3\n9:00 a.m. - 12:00 p.m. PT \nRegistration deadline: September 22\, 2022\n \nEvent Detail Page: https://www.boardoftrade.com/events/7506
X-ALT-DESC;FMTTYPE=text/html:<!doctype html><html><body><div>Schedule: <p>Thursday\, October 6 - November 3<BR>9:00 a.m. - 12:00 p.m. PT <BR><B>Registration deadline: September 22\, 2022</B></p></div>&nbsp\;<div>Event Detail Page: https://www.boardoftrade.com/events/7506</div></body></html>

SUMMARY:ESG Fundamentals Microcredential: Design your ESG action plan
END:VEVENT
END:VCALENDAR