
BEGIN:VCALENDAR
VERSION:2.0
CALSCALE:GREGORIAN
BEGIN:VEVENT
URL;VALUE=URI:https://www.boardoftrade.com/events/7504
DTSTART:20220822T000000Z
DTEND:20220822T050000Z
UID:7504eventcalendar.boardoftrade.com
DTSTAMP:20260419T130617Z
LOCATION:Pacific National Exhibition 2901 E Hastings St\, Vancouver
DESCRIPTION:Schedule: \nSocializing with fellow GVBOT Members: 5:00 - 8:00 p.m. - Flume Picnic Area <br><br>Blue Rodeo Concert: 8:30 p.m. - PNE Amphitheatre  <br><br>We encourage Members to arrive early and explore the PNE Fair!\n \nEvent Detail Page: https://www.boardoftrade.com/events/7504
X-ALT-DESC;FMTTYPE=text/html:<!doctype html><html><body><div>Schedule: <p>Socializing with fellow GVBOT Members: 5:00 - 8:00 p.m. - Flume Picnic Area <br><br>Blue Rodeo Concert: 8:30 p.m. - PNE Amphitheatre  <br><br>We encourage Members to arrive early and explore the PNE Fair!</p></div>&nbsp\;<div>Event Detail Page: https://www.boardoftrade.com/events/7504</div></body></html>

SUMMARY:Members' Experience with the PNE Fair
END:VEVENT
END:VCALENDAR